BEGIN:VCALENDAR
VERSION:2.0
PRODID:-//Tukios.com/
BEGIN:VEVENT
UID:d15b9429-6c55-487d-a463-8f4c0b1ed196@www.grfuneralhome.com
DTSTAMP:20260420T000340Z
DTSTART:20260425T180000Z
DTEND:20260425T200000Z
SUMMARY:Viewing
DESCRIPTION:
URL:https://www.grfuneralhome.com/obituaries/wanda-bailey
LOCATION:Canaan Acres Campground 8020 Nazarene Ave NE  Louisville OH 
	44641
GEO:40.8889289;-81.2515089
END:VEVENT
END:VCALENDAR