BEGIN:VCALENDAR
VERSION:2.0
PRODID:-//Tukios.com/
BEGIN:VEVENT
UID:cce7edfd-6597-466b-b931-43943c36b8b2@www.grfuneralhome.com
DTSTAMP:20260420T000022Z
DTSTART:20260425T200000Z
DTEND:20260425T210000Z
SUMMARY:Funeral Service
DESCRIPTION:
URL:https://www.grfuneralhome.com/obituaries/wanda-bailey
LOCATION:Canaan Acres Campground 8020 Nazarene Ave NE  Louisville OH 
	44641
GEO:40.8889289;-81.2515089
END:VEVENT
END:VCALENDAR