BEGIN:VCALENDAR
VERSION:2.0
PRODID:-//Tukios.com/
BEGIN:VEVENT
UID:4728b1ad-e9ca-405c-ae2c-83f7b95eed50@www.grfuneralhome.com
DTSTAMP:20260421T223128Z
DTSTART:20260424T150000Z
DTEND:20260424T160000Z
SUMMARY:Funeral Service
DESCRIPTION:
URL:https://www.grfuneralhome.com/obituaries/beverly-warner
LOCATION:Gednetz-Ruzek-Brown Funeral Home 126 W Vermont Ave  Sebring OH 
	44672
GEO:40.9289543;-81.0195676
END:VEVENT
END:VCALENDAR