BEGIN:VCALENDAR
VERSION:2.0
PRODID:-//Tukios.com/
BEGIN:VEVENT
UID:74a716c5-12f1-4d9e-b3d3-f23e1b05db40@www.grfuneralhome.com
DTSTAMP:20260421T223307Z
DTSTART:20260424T140000Z
DTEND:20260424T150000Z
SUMMARY:Public Viewing
DESCRIPTION:
URL:https://www.grfuneralhome.com/obituaries/beverly-warner
LOCATION:Gednetz-Ruzek-Brown Funeral Home 126 W Vermont Ave  Sebring OH 
	44672
GEO:40.9289543;-81.0195676
END:VEVENT
END:VCALENDAR