BEGIN:VCALENDAR
VERSION:2.0
PRODID:-//Tukios.com/
BEGIN:VEVENT
UID:47817149-6df4-4c92-b471-25d606148bec@www.grfuneralhome.com
DTSTAMP:20260421T222955Z
DTSTART:20260424
SUMMARY:Graveside Service
DESCRIPTION:
URL:https://www.grfuneralhome.com/obituaries/beverly-warner
LOCATION:Highland Memorial Park 12th Street  Beloit OH 44609
GEO:40.8211824;-81.0122626
END:VEVENT
END:VCALENDAR